BEGIN:VCALENDAR
PRODID:-//NOLIS GmbH//NOLIS-Manager Kalender V3.5//DE
VERSION:2.0
METHOD:PUBLISH
LAST-MODIFIED:20260423T222210Z
NAME:Kalender
X-WR-CALNAME:Kalender
X-WR-TIMEZONE:UTC
TZID:UTC
X-VCALENDAR-VERSION:3.5
X-MS-OLK-FORCEINSPECTOROPEN:TRUE
BEGIN:VEVENT
DTSTART:20260511T160000Z
SUMMARY:Wurzener Land Dialoge
PRIORITY:0
DTEND:20260511T180000Z
LOCATION:Gemeindezentrum "Haus an der Rietzschke" Roitzsch, Roitzscher Hauptstraße 14, 04808 Wurzen OT Roitzsch
X-LOCATION-ID:901005629
X-LOCATION-OWNER:22901
UID:107b5ebfcbf697de23be4f2a02e736ac
X-ID:22901_900011691
DTSTAMP:20260420T063416Z
CATEGORIES:Vorträge / Lesungen / Diskussionen,Frauenveranstaltungen
X-CATEGORIES:621,619
DESCRIPTION:Nix los hier? Keine Treffpunkte mehr? Der Austausch fehlt? Welche besonderen herausforderungen gibt es insbesondere für Frauen im ländlichen Raum? Was können wir selbst tun, dass ggf. bestehende Lücken gefüllt werden. Darüber soll in lockerer Runde gesprochen werden am besten mit Ergebnissen!
CLASS:PUBLIC
STATUS:CONFIRMED
GEO:12.763012312;51.364785739
X-GEO-PROJECTION:EPSG:4326
CREATED:20260420T063416Z
LAST-MODIFIED:20260420T063416Z
X-KOMMUNE:Stadt Wurzen
X-KOMMUNE-ID:22901
X-ORT:Roitzsch
X-ORT-ID:22911
X-SCHLAGWORTE:Leben im ländlichen Raum, Treffpunkte, Austausch, Ideen, Engagement, Frauen
X-KURZBESCHREIBUNG:Nix los hier? Keine Treffpunkte mehr? Der Austausch fehlt? Welche besonderen herausforderungen gibt es insbesondere für Frauen im ländlichen Raum? Was können wir selbst tun, dass ggf. bestehende Lücken gefüllt werden. Darüber soll in lockerer Runde gesprochen werden am besten mit Ergebnissen!
X-KURZ-DETAIL:0
X-ORGANIZER:Stadtverwaltung\nFriedrich-Ebert-Straße 2\n04808 Wurzen
X-ORGANIZER-ID:900000013
X-ORGANIZER-OWNER:22901
X-NOLISEXPORT:1
END:VEVENT
END:VCALENDAR
