BEGIN:VCALENDAR
PRODID:-//NOLIS GmbH//NOLIS-Manager Kalender V3.5//DE
VERSION:2.0
METHOD:PUBLISH
LAST-MODIFIED:20260423T221339Z
NAME:Kalender
X-WR-CALNAME:Kalender
X-WR-TIMEZONE:UTC
TZID:UTC
X-VCALENDAR-VERSION:3.5
X-MS-OLK-FORCEINSPECTOROPEN:TRUE
BEGIN:VEVENT
DTSTART:20260522T170000Z
SUMMARY:Lesebühne
PRIORITY:0
DTEND:20260522T190000Z
X-SERIENCONTAINER:900010960
LOCATION:Ringelnatz-Geburtshaus, Crostigall 14, 04808 Wurzen
X-LOCATION-ID:901000207
X-LOCATION-OWNER:22901
UID:424a6552bac8d66e8b2705880efa03e1
X-ID:22901_900010973
DTSTAMP:20250820T132246Z
CATEGORIES:Literatur und Lesungen,Vorträge / Lesungen / Diskussionen
X-CATEGORIES:906,621
DESCRIPTION:Sie sind die Siegfried und Roys der Lesebühnenszene, die Pat und Patachons der gepflegten satirischen Literatur, die Dick und Doofs unter den Hochliteraten, obwohl sie beide nicht wirklich dick sind: Christian Kreis und Peter Berg. Schon seit 2013 betreiben sie in Halle die „Lesebühne Kreis mit Berg“, zusammen mit Andreas Mikolajczyk, der zwischen den Texten Banjo spielt oder Gitarre oder Ukulele oder Mandoline (der feine Herr Musiker kann sich ja nicht entscheiden).\n\nDie Drei erlauben sich diesen Quatsch nun auch in Wurzen und laden sich immer noch einen wechselnden Gast aus der deutschlandweiten Lesebühnenszene dazu. Jeder Abend steht unter einem anderen Thema, damit für Abwechslung gesorgt ist und ein Grund besteht, trotz größter Schreibfaulheit wieder was Neues für die Bühne zu fabrizieren.\n\nVorverkauf 8€ | Kassenpreis 10€\nKinder bis 14 Jahre frei (Es muss ein Kinderticket bestellt werden, um einen Sitzplatz bei der Veranstaltung zu sichern!)\n\nEintrittskarten zum vergünstigten Vorverkaufspreis sind über unseren Online-Ticketshop sowie bei Der LeseLaden und bei uns im Ringelnatz-Geburtshaus in Wurzen zu den jeweiligen Öffnungszeiten erhältlich.
CLASS:PUBLIC
URL;VALUE=URI:https://ringelnatz-verein.de
STATUS:CONFIRMED
GEO:12.733438015;51.366862352
X-GEO-PROJECTION:EPSG:4326
CONTACT:Telefon: 03425 8573991\nHomepage: https://ringelnatz-verein.de\nE-Mail: info@ringelnatz-verein.de
CREATED:20250820T132246Z
LAST-MODIFIED:20250820T132246Z
X-KOMMUNE:Stadt Wurzen
X-KOMMUNE-ID:22901
X-ORT:Wurzen
X-ORT-ID:22902
X-KURZBESCHREIBUNG:Christian Kreis, Peter Berg, Andreas Mikolajczyk & Gast
X-KURZ-DETAIL:0
X-ORGANIZER:Joachim-Ringelnatz-Verein e.V.\nCrostigall 14, 04808 Wurzen
X-NOLISEXPORT:1
END:VEVENT
END:VCALENDAR
